BEGIN:VCALENDAR
PRODID:-//Cyberglue MemberConnex//iCal4j 1.0//EN
VERSION:2.0
METHOD:PUBLISH
BEGIN:VEVENT
DTSTAMP:20210120T001827Z
DTSTART:20191022T120000
SUMMARY:Women in Marketing: Leadership. Inspiration. Networking.
DTEND:20191022T164500
LOCATION:Cordis\, 83 Symonds Street\, CBD\, Auckland\, New Zealand
TRANSP:OPAQUE
SEQUENCE:0
DESCRIPTION:
URL:/WiM2019
UID:1-2137
END:VEVENT
END:VCALENDAR
